BEGIN:VCALENDAR
VERSION:2.0
PRODID:icalendar-ruby
CALSCALE:GREGORIAN
METHOD:PUBLISH
BEGIN:VEVENT
DTSTAMP:20260422T141349Z
UID:244-585382@stchristopherssyndal.com.au
DTSTART:20260515T233000Z
DTEND:20260516T013000Z
CLASS:PUBLIC
CREATED:20260422T202641
DESCRIPTION:Theme - Midlife Well-being: Breathwork Tools\nGuest Speaker - U
 nna Goldsworthy\nMorning tea provided.\nCost: $25\nBook Online: https://ww
 w.trybooking.com/DLIIP\nPlease RSVP by 14th May 2026 \nContact: Christina
  Sorbello (0408 355 527)\n* Please indicate any dietary requirements
LAST-MODIFIED:20260422T202641
LOCATION:St Christopher’s Parish | Hennessey Hall
SUMMARY:Women's Health Event
URL;VALUE=URI:https://www.stchristopherssyndal.com.au/events/womens-health-
 event--244/2026-05-16
ATTACH;FILENAME=womens health event.webp;FMTTYPE=image/webp:https://dq5pwpg
 1q8ru0.cloudfront.net/2026/04/22/10/05/44/fbc95fee-1f40-4ba2-a5fd-fd8008cc
 4205/womens%20health%20event.webp
END:VEVENT
END:VCALENDAR
