BEGIN:VCALENDAR
VERSION:2.0
PRODID:icalendar-ruby
CALSCALE:GREGORIAN
METHOD:PUBLISH
BEGIN:VEVENT
DTSTAMP:20260422T141752Z
UID:243-585381@stchristopherssyndal.com.au
DTSTART:20260502T000000Z
DTEND:20260502T060000Z
CLASS:PUBLIC
CREATED:20260422T202558
DESCRIPTION:Come\, join us and experience the power of the Holy Spirit at W
 omen Alive and make JESUS a part of your everyday life!\nPowerful teaching
  &amp\; testimonies\, followed by a healing service\, led by Anastasia Reb
 ello and Team.\nMorning tea will be provided\, BYO Lunch.\nFor further det
 ails\, contact Jane (0421 527 468)
LAST-MODIFIED:20260422T202558
LOCATION:St Christopher's Parish
SUMMARY:A Spiritual Retreat for Women
URL;VALUE=URI:https://www.stchristopherssyndal.com.au/events/a-spiritual-re
 treat-for-women/2026-05-02
ATTACH;FILENAME=spiritual retreat for women.webp;FMTTYPE=image/webp:https:/
 /dq5pwpg1q8ru0.cloudfront.net/2026/04/22/10/00/27/e1758476-f940-4913-94e7-
 16edc88676c6/spiritual%20retreat%20for%20women.webp
END:VEVENT
END:VCALENDAR
